BEGIN:VCALENDAR
VERSION:2.0
PRODID:-//The Global Plant Council - ECPv6.15.20//NONSGML v1.0//EN
CALSCALE:GREGORIAN
METHOD:PUBLISH
X-WR-CALNAME:The Global Plant Council
X-ORIGINAL-URL:https://globalplantcouncil.org
X-WR-CALDESC:Events for The Global Plant Council
REFRESH-INTERVAL;VALUE=DURATION:PT1H
X-Robots-Tag:noindex
X-PUBLISHED-TTL:PT1H
BEGIN:VTIMEZONE
TZID:Europe/Madrid
BEGIN:DAYLIGHT
TZOFFSETFROM:+0100
TZOFFSETTO:+0200
TZNAME:CEST
DTSTART:20250330T010000
END:DAYLIGHT
BEGIN:STANDARD
TZOFFSETFROM:+0200
TZOFFSETTO:+0100
TZNAME:CET
DTSTART:20251026T010000
END:STANDARD
BEGIN:DAYLIGHT
TZOFFSETFROM:+0100
TZOFFSETTO:+0200
TZNAME:CEST
DTSTART:20260329T010000
END:DAYLIGHT
BEGIN:STANDARD
TZOFFSETFROM:+0200
TZOFFSETTO:+0100
TZNAME:CET
DTSTART:20261025T010000
END:STANDARD
BEGIN:DAYLIGHT
TZOFFSETFROM:+0100
TZOFFSETTO:+0200
TZNAME:CEST
DTSTART:20270328T010000
END:DAYLIGHT
BEGIN:STANDARD
TZOFFSETFROM:+0200
TZOFFSETTO:+0100
TZNAME:CET
DTSTART:20271031T010000
END:STANDARD
END:VTIMEZONE
BEGIN:VEVENT
DTSTART;VALUE=DATE:20261004
DTEND;VALUE=DATE:20261009
DTSTAMP:20260425T012228
CREATED:20251126T101132Z
LAST-MODIFIED:20251126T101357Z
UID:22323-1791072000-1791503999@globalplantcouncil.org
SUMMARY:Auxin 2026
DESCRIPTION:The Auxin2026 meeting will take place on the Algarve in Portugal between October 4th-8th 2026. \nThis quadrennial event brings together leading and emerging researchers in auxin biology to discuss the current state and future prospects for this exciting and fast moving research area! \nPlease ‘Save the Date’. \nRegistration opens on January 1st 2026 \nAAB are organising the event on behalf of the scientific leadership team of Dior Kelley\, Lars Ostergaard and Andrea Gallavotti. \nVisit Auxin2026 Website
URL:https://globalplantcouncil.org/event/auxin-2026/
LOCATION:Algarve\, Algarve\, Portugal
CATEGORIES:Plant Science
ATTACH;FMTTYPE=image/webp:https://globalplantcouncil.org/wp-content/uploads/2025/11/FINAL-Logo.webp
END:VEVENT
BEGIN:VEVENT
DTSTART;VALUE=DATE:20261014
DTEND;VALUE=DATE:20261017
DTSTAMP:20260425T012228
CREATED:20260203T161906Z
LAST-MODIFIED:20260203T161938Z
UID:22474-1791936000-1792195199@globalplantcouncil.org
SUMMARY:International SPS Symposium 2026
DESCRIPTION:This International Symposium is organized by the Saclay Plant Sciences network\, one of the largest European plant science communities. \nIn the face of rapid and significant climate change\, advancing our knowledge in plant sciences has never been more crucial. The research being conducted in our laboratories today will make it possible to develop tools\, cultivars\, and agricultural practices that will help adapt our lifestyles and production systems to these environmental challenges in the near future. \nThe International SPS Symposium will gather international researchers from various areas of plant sciences to show the diversity of plant research\, share new insights and promote collaborations. The sessions will focus on the following topics: 1) Nutrition and metabolism\, 2) Environmental interactions\, 3) Developmental and cell biology\, 4) Genome wide analysis and 5) Agronomic traits and breeding tools. \nRenowned international and SPS speakers will present their latest finding. Additionally\, approximately twenty talks will be selected based on submitted abstracts. Two poster sessions (featuring flash-talks) will also provide attendees with the opportunity to present their work and foster new collaborations.
URL:https://globalplantcouncil.org/event/international-sps-symposium-2026/
LOCATION:SPS\, Versailles\, France
CATEGORIES:Plant Science
ATTACH;FMTTYPE=image/webp:https://globalplantcouncil.org/wp-content/uploads/2026/02/SPS1.webp
END:VEVENT
END:VCALENDAR