BEGIN:VCALENDAR
VERSION:2.0
PRODID:-//The Global Plant Council - ECPv6.15.20//NONSGML v1.0//EN
CALSCALE:GREGORIAN
METHOD:PUBLISH
X-ORIGINAL-URL:https://globalplantcouncil.org
X-WR-CALDESC:Events for The Global Plant Council
REFRESH-INTERVAL;VALUE=DURATION:PT1H
X-Robots-Tag:noindex
X-PUBLISHED-TTL:PT1H
BEGIN:VTIMEZONE
TZID:Europe/Madrid
BEGIN:DAYLIGHT
TZOFFSETFROM:+0100
TZOFFSETTO:+0200
TZNAME:CEST
DTSTART:20250330T010000
END:DAYLIGHT
BEGIN:STANDARD
TZOFFSETFROM:+0200
TZOFFSETTO:+0100
TZNAME:CET
DTSTART:20251026T010000
END:STANDARD
BEGIN:DAYLIGHT
TZOFFSETFROM:+0100
TZOFFSETTO:+0200
TZNAME:CEST
DTSTART:20260329T010000
END:DAYLIGHT
BEGIN:STANDARD
TZOFFSETFROM:+0200
TZOFFSETTO:+0100
TZNAME:CET
DTSTART:20261025T010000
END:STANDARD
BEGIN:DAYLIGHT
TZOFFSETFROM:+0100
TZOFFSETTO:+0200
TZNAME:CEST
DTSTART:20270328T010000
END:DAYLIGHT
BEGIN:STANDARD
TZOFFSETFROM:+0200
TZOFFSETTO:+0100
TZNAME:CET
DTSTART:20271031T010000
END:STANDARD
END:VTIMEZONE
BEGIN:VEVENT
DTSTART;VALUE=DATE:20260628
DTEND;VALUE=DATE:20260704
DTSTAMP:20260424T222709
CREATED:20251211T094907Z
LAST-MODIFIED:20251211T095018Z
UID:22355-1782604800-1783123199@globalplantcouncil.org
SUMMARY:Summer School 2026: Plant single cell RNAseq workshop: From current technologies to data analyses
DESCRIPTION:This Summer school is organized by the Saclay Plant Sciences (SPS) network\, one of the largest European plant sciences communities. \nscRNAseq approaches have revolutionized the way biologists approach their research subjects\, by making it possible to dissect molecular mechanisms at the single-cell level. But although technological developments have recently made these approaches more accessible\, their expensive use still requires significant technical training\, including the good conception of experimental designs\, the preparation of samples as well as their bioinformatics analyses. In addition\, different protocols and various bioinformatics and statistical analyzes are available\, and it can be difficult to choose the most relevant ones for the biological question at hand. \nOver five days\, the SPS Summer School 2026 will cover all the stages of a scRNAseq project in plants. Through a combination of lectures and practical work\, the many specific features of plant models will be highlighted by experts from the Saclay Plant Sciences network (CNRS and INRAE)\, the ViB in Ghent and the Pasteur Institute. \nAfter this international school\, participants will:\n–    Have an overview of the different scRNAseq technologies and understand their pros and cons.\n–    Be able to design experiments depending on the biological question.\n–    Be trained on sample preparation techniques for single cell and single nuclei\n–    Understand the different steps of bioinformatics and statistical analysis\n–    Have a better biological interpretation of results\n–    Have facilitated exchanges with technology platforms\, bioinformaticians\, and biostatisticians in order to successfully complete their scRNAseq project \nThe summer school will bring together outstanding and enthusiastic young scientists (PhD students and post-docs) from all over the world in order to exchange knowledge and ideas. It is limited to a small group of participants (20 maximum) to privilege informal interactions and scientific discussions. \nTo register: https://eng-saclay-plant-sciences.hub.inrae.fr/teaching-and-training/summer-schools/summer-school-2026
URL:https://globalplantcouncil.org/event/summer-school-2026-plant-single-cell-rnaseq-workshop-from-current-technologies-to-data-analyses/
LOCATION:INRAE\, Versailles\, Versailles\, France
CATEGORIES:Bioinformatics,Plant Science
ATTACH;FMTTYPE=image/webp:https://globalplantcouncil.org/wp-content/uploads/2025/12/f7c93ca17e0c-summer_school_sps_2026_bandeau.webp
END:VEVENT
BEGIN:VEVENT
DTSTART;VALUE=DATE:20260701
DTEND;VALUE=DATE:20260704
DTSTAMP:20260424T222709
CREATED:20260121T140308Z
LAST-MODIFIED:20260121T140343Z
UID:22432-1782864000-1783123199@globalplantcouncil.org
SUMMARY:XVIII Plant Molecular Biology Meeting (RBMP)
DESCRIPTION:The XVIII Meeting of Plant Molecular Biology (XVIII RBMP) will take place on July 1–3\, 2026\, at the University of the Basque Country (UPV/EHU) in Bilbao. This biennial meeting is a major forum for the plant molecular biology community\, bringing together researchers and professionals from Spain and other countries. The scientific program will include keynote lectures\, oral and poster presentations\, and opportunities for scientific exchange and collaboration\, with particular emphasis on the participation of early-career researchers. The meeting aims to showcase recent advances in plant molecular biology and to promote research relevant to agricultural development and challenges such as climate change. \nThe venue\, Bizkaia Aretoa\, is centrally located in Bilbao near the Guggenheim Museum\, in a city known for its cultural and architectural transformation
URL:https://globalplantcouncil.org/event/xviii-plant-molecular-biology-meeting-rbmp/
LOCATION:Bilbao\, Spain
CATEGORIES:Plant Science
ATTACH;FMTTYPE=image/webp:https://globalplantcouncil.org/wp-content/uploads/2026/01/I68400507776ba9dfdc9099255e008.webp
END:VEVENT
BEGIN:VEVENT
DTSTART;VALUE=DATE:20260718
DTEND;VALUE=DATE:20260723
DTSTAMP:20260424T222709
CREATED:20251126T104052Z
LAST-MODIFIED:20251126T104052Z
UID:22333-1784332800-1784764799@globalplantcouncil.org
SUMMARY:Plant Biology 2026
DESCRIPTION:The American Society of Plant Biologists (ASPB) and the Canadian Society of Plant Biologists (CSPB/SCBV) are pleased to convene a joint conference in Ottawa\, Canada in 2026. This meeting will provide a unique opportunity to bring together researchers\, industry leaders\, educators\, and students from across the global plant biology community to share advances\, foster collaborations\, and highlight the scientific achievements of both societies.
URL:https://globalplantcouncil.org/event/plant-biology-2026/
LOCATION:Ottawa\, Ottawa\, Canada
CATEGORIES:Plant Science
ATTACH;FMTTYPE=image/webp:https://globalplantcouncil.org/wp-content/uploads/2025/11/ASPB-PB26_Logo_Website1-scaled.webp
END:VEVENT
BEGIN:VEVENT
DTSTART;VALUE=DATE:20260726
DTEND;VALUE=DATE:20260731
DTSTAMP:20260424T222709
CREATED:20250114T090611Z
LAST-MODIFIED:20250114T090611Z
UID:21716-1785024000-1785455999@globalplantcouncil.org
SUMMARY:International Conference on Photosynthesis Research 2026 (ICPR26)
DESCRIPTION:VISIT EVENT WEBSITE\nThe study of photosynthesis has attracted the attention of successive legions of biologists\, biochemists\, chemists and physicists for over 200 years. Never in the history of photosynthesis research\, however\, has progress in our understanding of photosynthetic mechanisms\, regulation and improvement been made as rapidly as it has over the past 5 years. Nature makes photosynthesis look easy\, but the construction of artificial photosynthetic systems remains challenging. Substantial efforts to improve the efficiency and productivity of photosynthesis have the potential to increase crop yields without further increasing fertilizer and water use. \nMoreover\, tailoring photosynthesis to meet the needs of nature-based solutions to climate change and to the sustainability of food production remain global challenges that have to be addressed by the photosynthesis community. This meeting will galvanise participants from academia and industry to translate this new mechanistic understanding of photosynthetic function into improved crop production and more efficient terrestrial carbon sinks. \n\nSchedule highlights\nTwo Keynote Speakers \nTwelve Plenary Speakers \nTwenty-seven Concurrent Sessions \nTwo poster sessions \nOpening reception \nConference dinner at Liverpool Cathedral (optional)
URL:https://globalplantcouncil.org/event/international-conference-on-photosynthesis-research-2026-icpr26/
LOCATION:ACC Liverpool\, United Kingdom
CATEGORIES:Plant Science
ATTACH;FMTTYPE=image/webp:https://globalplantcouncil.org/wp-content/uploads/2025/01/ICPR_Logo_2.webp
END:VEVENT
END:VCALENDAR