BEGIN:VCALENDAR
VERSION:2.0
PRODID:-//The Global Plant Council - ECPv6.15.20//NONSGML v1.0//EN
CALSCALE:GREGORIAN
METHOD:PUBLISH
X-WR-CALNAME:The Global Plant Council
X-ORIGINAL-URL:https://globalplantcouncil.org
X-WR-CALDESC:Events for The Global Plant Council
REFRESH-INTERVAL;VALUE=DURATION:PT1H
X-Robots-Tag:noindex
X-PUBLISHED-TTL:PT1H
BEGIN:VTIMEZONE
TZID:Europe/Madrid
BEGIN:DAYLIGHT
TZOFFSETFROM:+0100
TZOFFSETTO:+0200
TZNAME:CEST
DTSTART:20250330T010000
END:DAYLIGHT
BEGIN:STANDARD
TZOFFSETFROM:+0200
TZOFFSETTO:+0100
TZNAME:CET
DTSTART:20251026T010000
END:STANDARD
BEGIN:DAYLIGHT
TZOFFSETFROM:+0100
TZOFFSETTO:+0200
TZNAME:CEST
DTSTART:20260329T010000
END:DAYLIGHT
BEGIN:STANDARD
TZOFFSETFROM:+0200
TZOFFSETTO:+0100
TZNAME:CET
DTSTART:20261025T010000
END:STANDARD
BEGIN:DAYLIGHT
TZOFFSETFROM:+0100
TZOFFSETTO:+0200
TZNAME:CEST
DTSTART:20270328T010000
END:DAYLIGHT
BEGIN:STANDARD
TZOFFSETFROM:+0200
TZOFFSETTO:+0100
TZNAME:CET
DTSTART:20271031T010000
END:STANDARD
END:VTIMEZONE
BEGIN:VEVENT
DTSTART;VALUE=DATE:20260618
DTEND;VALUE=DATE:20260620
DTSTAMP:20260424T213350
CREATED:20260201T095607Z
LAST-MODIFIED:20260201T095607Z
UID:22463-1781740800-1781913599@globalplantcouncil.org
SUMMARY:Norwegian Plant Biology Conference 2026 (NPBC 2026)
DESCRIPTION:NPBC 2026 brings together researchers in plants\, macroalgae\, and microalgae to explore mechanisms\, applications\, and solutions spanning molecules to ecosystems. \n\nThemes / Sessions \n\nPlant & Algal Immunity\, Stress Responses\, and Environmental Adaptation\nSignaling\, Perception\, and Interactions in Plants\, Macroalgae\, and Microalgae\nBiotechnological Innovations and Emerging Tools\nRestoration\, Biodiversity\, and Sustainable Ecosystem Management\n\nKey dates \n\nAbstract submission opens: Oct 1\, 2025\nAbstract submission deadline: extended to Jan 23\, 2026\nRegistration opens: Jan 15\, 2026\nNotification of acceptance: Feb 6\, 2026\nEarly‑bird registration closes: Mar 09\, 2026\nRegular registration closes: May 13\, 2026\nFinal registration deadline (limited): Jun 5\, 2026\nConference dates: Jun 18-19\, 2026 with optional workshops Jun 17\n\nVenue\nScandic Havet\, Bodø. Closest airport: Bodø (BOO).
URL:https://globalplantcouncil.org/event/norwegian-plant-biology-conference-2026-npbc-2026/
LOCATION:Bodø\, Bodø\, Norway
CATEGORIES:Plant Science
ATTACH;FMTTYPE=image/webp:https://globalplantcouncil.org/wp-content/uploads/2026/02/NPB2026Logo2.webp
END:VEVENT
BEGIN:VEVENT
DTSTART;VALUE=DATE:20260622
DTEND;VALUE=DATE:20260627
DTSTAMP:20260424T213350
CREATED:20260210T205250Z
LAST-MODIFIED:20260210T205250Z
UID:22484-1782086400-1782518399@globalplantcouncil.org
SUMMARY:36th International Conference on Arabidopsis Research (ICAR2026)
DESCRIPTION:We are pleased to announce that registration for the 36th International Conference on Arabidopsis Research (ICAR2026) is now open! The meeting will take place at the National University of Singapore\, Singapore from 22-26 June 2026. \nPlease take note of the following deadlines: \n•  Abstract submission for consideration for oral presentation: 22 February\, 2026 \n•  Early-bird registration deadline: 12 April\, 2026 \n•  Abstract submission for poster presentation: 30 April\, 2026 \nEarly career scientists are especially encouraged to register early to secure accommodation in the NUS student hostels\, which provide significantly more affordable rates. \nFor more information and to register\, please visit: ICAR2026.sg
URL:https://globalplantcouncil.org/event/36th-international-conference-on-arabidopsis-research-icar2026/
LOCATION:Singapore\, Singapore
CATEGORIES:Molecular Plant Science,Plant Science
ATTACH;FMTTYPE=image/webp:https://globalplantcouncil.org/wp-content/uploads/2026/02/unnamed1.webp
END:VEVENT
BEGIN:VEVENT
DTSTART;VALUE=DATE:20260628
DTEND;VALUE=DATE:20260704
DTSTAMP:20260424T213350
CREATED:20251211T094907Z
LAST-MODIFIED:20251211T095018Z
UID:22355-1782604800-1783123199@globalplantcouncil.org
SUMMARY:Summer School 2026: Plant single cell RNAseq workshop: From current technologies to data analyses
DESCRIPTION:This Summer school is organized by the Saclay Plant Sciences (SPS) network\, one of the largest European plant sciences communities. \nscRNAseq approaches have revolutionized the way biologists approach their research subjects\, by making it possible to dissect molecular mechanisms at the single-cell level. But although technological developments have recently made these approaches more accessible\, their expensive use still requires significant technical training\, including the good conception of experimental designs\, the preparation of samples as well as their bioinformatics analyses. In addition\, different protocols and various bioinformatics and statistical analyzes are available\, and it can be difficult to choose the most relevant ones for the biological question at hand. \nOver five days\, the SPS Summer School 2026 will cover all the stages of a scRNAseq project in plants. Through a combination of lectures and practical work\, the many specific features of plant models will be highlighted by experts from the Saclay Plant Sciences network (CNRS and INRAE)\, the ViB in Ghent and the Pasteur Institute. \nAfter this international school\, participants will:\n–    Have an overview of the different scRNAseq technologies and understand their pros and cons.\n–    Be able to design experiments depending on the biological question.\n–    Be trained on sample preparation techniques for single cell and single nuclei\n–    Understand the different steps of bioinformatics and statistical analysis\n–    Have a better biological interpretation of results\n–    Have facilitated exchanges with technology platforms\, bioinformaticians\, and biostatisticians in order to successfully complete their scRNAseq project \nThe summer school will bring together outstanding and enthusiastic young scientists (PhD students and post-docs) from all over the world in order to exchange knowledge and ideas. It is limited to a small group of participants (20 maximum) to privilege informal interactions and scientific discussions. \nTo register: https://eng-saclay-plant-sciences.hub.inrae.fr/teaching-and-training/summer-schools/summer-school-2026
URL:https://globalplantcouncil.org/event/summer-school-2026-plant-single-cell-rnaseq-workshop-from-current-technologies-to-data-analyses/
LOCATION:INRAE\, Versailles\, Versailles\, France
CATEGORIES:Bioinformatics,Plant Science
ATTACH;FMTTYPE=image/webp:https://globalplantcouncil.org/wp-content/uploads/2025/12/f7c93ca17e0c-summer_school_sps_2026_bandeau.webp
END:VEVENT
END:VCALENDAR