BEGIN:VCALENDAR
VERSION:2.0
PRODID:-//The Global Plant Council - ECPv6.15.20//NONSGML v1.0//EN
CALSCALE:GREGORIAN
METHOD:PUBLISH
X-ORIGINAL-URL:https://globalplantcouncil.org
X-WR-CALDESC:Events for The Global Plant Council
REFRESH-INTERVAL;VALUE=DURATION:PT1H
X-Robots-Tag:noindex
X-PUBLISHED-TTL:PT1H
BEGIN:VTIMEZONE
TZID:Europe/Madrid
BEGIN:DAYLIGHT
TZOFFSETFROM:+0100
TZOFFSETTO:+0200
TZNAME:CEST
DTSTART:20250330T010000
END:DAYLIGHT
BEGIN:STANDARD
TZOFFSETFROM:+0200
TZOFFSETTO:+0100
TZNAME:CET
DTSTART:20251026T010000
END:STANDARD
BEGIN:DAYLIGHT
TZOFFSETFROM:+0100
TZOFFSETTO:+0200
TZNAME:CEST
DTSTART:20260329T010000
END:DAYLIGHT
BEGIN:STANDARD
TZOFFSETFROM:+0200
TZOFFSETTO:+0100
TZNAME:CET
DTSTART:20261025T010000
END:STANDARD
BEGIN:DAYLIGHT
TZOFFSETFROM:+0100
TZOFFSETTO:+0200
TZNAME:CEST
DTSTART:20270328T010000
END:DAYLIGHT
BEGIN:STANDARD
TZOFFSETFROM:+0200
TZOFFSETTO:+0100
TZNAME:CET
DTSTART:20271031T010000
END:STANDARD
END:VTIMEZONE
BEGIN:VEVENT
DTSTART;TZID=Europe/Madrid:20260310T180000
DTEND;TZID=Europe/Madrid:20260310T193000
DTSTAMP:20260424T202933
CREATED:20260211T123351Z
LAST-MODIFIED:20260216T081221Z
UID:22487-1773165600-1773171000@globalplantcouncil.org
SUMMARY:Receptor signalling - function\, dynamics and evolution
DESCRIPTION:This webinar is the 3rd in a series together with “The Plant Journal”. Join us for a webinar hosted as a collaboration between The Global Plant Council and the “The Plant Journal”. \nPlant receptors detect a diverse spectrum of signalling molecules\, external and endogenous\, essential to control plant growth\, development\, and stress responses. \nThis webinar will present research from three speakers on different aspects of plant receptors and receptor based signalling. \nDate: 10th March 2026 \nTime: 18:00 CET \nHosted by Katherine Denby (Editor in Chief of The Plant Journal) \nSpeakers: \n\nDr. Johana Misas Villamil (University of Cologne Institute of Plant Sciences / CEPLAS )\nDr. Satoshi Fujita (University of Toulouse)\nDr. Jacob Moe-Lange (UC Davis)\n\nDon’t miss this opportunity to hear and engage in thoughtful discussion. \nRegister now to secure your spot. \n\nTo register: https://us02web.zoom.us/webinar/register/6517708039839/WN_uxRUXZmoTZ2OtY33c74R6w
URL:https://globalplantcouncil.org/event/receptor-signalling-function-dynamics-and-evolution/
CATEGORIES:Plant Science
ATTACH;FMTTYPE=image/webp:https://globalplantcouncil.org/wp-content/uploads/2026/02/banner-March2026.webp
END:VEVENT
BEGIN:VEVENT
DTSTART;VALUE=DATE:20260323
DTEND;VALUE=DATE:20260327
DTSTAMP:20260424T202933
CREATED:20251126T100754Z
LAST-MODIFIED:20251126T100825Z
UID:22319-1774224000-1774569599@globalplantcouncil.org
SUMMARY:Monogram 2026
DESCRIPTION:The Monogram Network was established in 2005 and consists of mostly UK-based researchers with an active interest in small grain cereals and grass (including C4 energy grasses). A primary aim is to link academia with commercial science and crop breeding\, Monogram 2026 will include both basic and more applied research and its members span disciplines including plant genetics\, physiology\, pathology\, breeding\, and bioinformatics. \nFrom 2026\, Monogram are linking up with AAB to organise their annual meeting\, which will simplify the organisation challenges and provide financial security. Attendees of Monogram 2026 have the opportunity to join AAB for a year (see AAB member benefits). The Monogram Steering Group will still make all scientific decisions about the meeting. \n\n\n\n\n\n\nRegistration opens on December 1st 2025
URL:https://globalplantcouncil.org/event/monogram-2026/
LOCATION:Cambridge\, Cambridge\, United Kingdom
CATEGORIES:Plant Science
ATTACH;FMTTYPE=image/webp:https://globalplantcouncil.org/wp-content/uploads/2025/11/monogram-scaled.webp
END:VEVENT
END:VCALENDAR