BEGIN:VCALENDAR
VERSION:2.0
PRODID:-//The Global Plant Council - ECPv6.15.20//NONSGML v1.0//EN
CALSCALE:GREGORIAN
METHOD:PUBLISH
X-ORIGINAL-URL:https://globalplantcouncil.org
X-WR-CALDESC:Events for The Global Plant Council
REFRESH-INTERVAL;VALUE=DURATION:PT1H
X-Robots-Tag:noindex
X-PUBLISHED-TTL:PT1H
BEGIN:VTIMEZONE
TZID:Europe/Madrid
BEGIN:DAYLIGHT
TZOFFSETFROM:+0100
TZOFFSETTO:+0200
TZNAME:CEST
DTSTART:20250330T010000
END:DAYLIGHT
BEGIN:STANDARD
TZOFFSETFROM:+0200
TZOFFSETTO:+0100
TZNAME:CET
DTSTART:20251026T010000
END:STANDARD
BEGIN:DAYLIGHT
TZOFFSETFROM:+0100
TZOFFSETTO:+0200
TZNAME:CEST
DTSTART:20260329T010000
END:DAYLIGHT
BEGIN:STANDARD
TZOFFSETFROM:+0200
TZOFFSETTO:+0100
TZNAME:CET
DTSTART:20261025T010000
END:STANDARD
BEGIN:DAYLIGHT
TZOFFSETFROM:+0100
TZOFFSETTO:+0200
TZNAME:CEST
DTSTART:20270328T010000
END:DAYLIGHT
BEGIN:STANDARD
TZOFFSETFROM:+0200
TZOFFSETTO:+0100
TZNAME:CET
DTSTART:20271031T010000
END:STANDARD
END:VTIMEZONE
BEGIN:VEVENT
DTSTART;TZID=Europe/Madrid:20260128T090000
DTEND;TZID=Europe/Madrid:20260128T103000
DTSTAMP:20260424T221600
CREATED:20251121T103222Z
LAST-MODIFIED:20251121T104402Z
UID:22290-1769590800-1769596200@globalplantcouncil.org
SUMMARY:Webinar: Plant Synthetic Biology: circuits\, access and acceptance
DESCRIPTION:This webinar is the 2nd in a series together with “The Plant Journal” bringing together leading voices at the forefront of plant engineering. \nJoin us on 28 January 2026 at 9:00 CET to learn from top researchers\, ask questions\, and connect with the global plant science community. \nDate: 28th January 2026\nTime: 9:00 CET \nHosted by Katherine Denby (Editor in Chief of The Plant Journal) \nSpeakers and topics:\nDr. Jenny Molloy (University of Cambridge) with “Taking synthetic biology global: open source tools for equitable access to advanced biotechnologies”\nDr. Rachel Ankeny (Wageningen University) with “Social Science Insights for Researchers in Crop Gene Technologies: The Importance of Concepts and Framing”\nDr. Adil Khan (The University of Western Australia) with “Synthetic gene circuits for programming plants” \nDon’t miss this opportunity to hear and engage in thoughtful discussion. \nRegister now to secure your spot.
URL:https://globalplantcouncil.org/event/plant-synthetic-biology-circuits-access-and-acceptance/
LOCATION:Online
CATEGORIES:Plant Science
ATTACH;FMTTYPE=image/webp:https://globalplantcouncil.org/wp-content/uploads/2025/11/tpj2.webp
END:VEVENT
END:VCALENDAR