BEGIN:VCALENDAR
VERSION:2.0
PRODID:-//The Global Plant Council - ECPv6.15.20//NONSGML v1.0//EN
CALSCALE:GREGORIAN
METHOD:PUBLISH
X-WR-CALNAME:The Global Plant Council
X-ORIGINAL-URL:https://globalplantcouncil.org
X-WR-CALDESC:Events for The Global Plant Council
REFRESH-INTERVAL;VALUE=DURATION:PT1H
X-Robots-Tag:noindex
X-PUBLISHED-TTL:PT1H
BEGIN:VTIMEZONE
TZID:Europe/London
BEGIN:DAYLIGHT
TZOFFSETFROM:+0000
TZOFFSETTO:+0100
TZNAME:BST
DTSTART:20240331T010000
END:DAYLIGHT
BEGIN:STANDARD
TZOFFSETFROM:+0100
TZOFFSETTO:+0000
TZNAME:GMT
DTSTART:20241027T010000
END:STANDARD
BEGIN:DAYLIGHT
TZOFFSETFROM:+0000
TZOFFSETTO:+0100
TZNAME:BST
DTSTART:20250330T010000
END:DAYLIGHT
BEGIN:STANDARD
TZOFFSETFROM:+0100
TZOFFSETTO:+0000
TZNAME:GMT
DTSTART:20251026T010000
END:STANDARD
BEGIN:DAYLIGHT
TZOFFSETFROM:+0000
TZOFFSETTO:+0100
TZNAME:BST
DTSTART:20260329T010000
END:DAYLIGHT
BEGIN:STANDARD
TZOFFSETFROM:+0100
TZOFFSETTO:+0000
TZNAME:GMT
DTSTART:20261025T010000
END:STANDARD
END:VTIMEZONE
BEGIN:VTIMEZONE
TZID:Europe/Madrid
BEGIN:DAYLIGHT
TZOFFSETFROM:+0100
TZOFFSETTO:+0200
TZNAME:CEST
DTSTART:20240331T010000
END:DAYLIGHT
BEGIN:STANDARD
TZOFFSETFROM:+0200
TZOFFSETTO:+0100
TZNAME:CET
DTSTART:20241027T010000
END:STANDARD
BEGIN:DAYLIGHT
TZOFFSETFROM:+0100
TZOFFSETTO:+0200
TZNAME:CEST
DTSTART:20250330T010000
END:DAYLIGHT
BEGIN:STANDARD
TZOFFSETFROM:+0200
TZOFFSETTO:+0100
TZNAME:CET
DTSTART:20251026T010000
END:STANDARD
BEGIN:DAYLIGHT
TZOFFSETFROM:+0100
TZOFFSETTO:+0200
TZNAME:CEST
DTSTART:20260329T010000
END:DAYLIGHT
BEGIN:STANDARD
TZOFFSETFROM:+0200
TZOFFSETTO:+0100
TZNAME:CET
DTSTART:20261025T010000
END:STANDARD
END:VTIMEZONE
BEGIN:VEVENT
DTSTART;TZID=Europe/London:20251105T140000
DTEND;TZID=Europe/London:20251105T150000
DTSTAMP:20260425T001155
CREATED:20251001T074811Z
LAST-MODIFIED:20251001T074903Z
UID:22202-1762351200-1762354800@globalplantcouncil.org
SUMMARY:Conservation Physiology - Community Conversations: Reflections on co-production and impact in conservation physiology
DESCRIPTION:Conservation Physiology is launching a new webinar series with the Society for Experimental Biology. Community Conversations is aimed at early career researchers wishing to build a career in conservation physiology or other fields of research. Sessions\nwill cover topics such as academic publishing\, scientific writing and developing collaborations. Our first speaker will be Dr Steven Cooke\, the journal’s Founding Editor and previous Editor in Chief\, as he reflects on his pathway to co-produced science and\nits impact for conservation. \nSpeaker: Dr Steven Cooke\, Founding editor of Conservation Physiology \nAudience: This free webinar is open to researchers from all career stages. It is aimed specifically at students and early career researchers in conservation physiology. \nDate and Time 14:00-15:00 GMT\, Weds 5th November 2025 \nEvent page: https://www.sebiology.org/events/ems-event-calendar/conphys-conversations-1.html \nBooking form: https://www.sebiology.org/member-homepage/ems-my-events/ems-my-event-details.html?eventId=550014E8-5DB3-4826-8E16967AFDC991BB \n  \n  \n 
URL:https://globalplantcouncil.org/event/conservation-physiology-community-conversations-reflections-on-co-production-and-impact-in-conservation-physiology/
LOCATION:Online
CATEGORIES:Other Skills,Plant Science
ATTACH;FMTTYPE=image/webp:https://globalplantcouncil.org/wp-content/uploads/2025/10/ConPhys1.webp
END:VEVENT
BEGIN:VEVENT
DTSTART;TZID=Europe/Madrid:20251124T170000
DTEND;TZID=Europe/Madrid:20251124T183000
DTSTAMP:20260425T001155
CREATED:20251102T184606Z
LAST-MODIFIED:20251102T191138Z
UID:22250-1764003600-1764009000@globalplantcouncil.org
SUMMARY:Webinar: Translating Research from Lab-to-Field-to-Application
DESCRIPTION:This webinar is the 1st in a series together with “Plant Biotechnology Journal” \nJoin us for a webinar hosted in collaboration between The Global Plant Council and the “Plant Biotechnology Journal”\, exploring translating research from lab-to-field-to-application. \nDate: 24th November 2025\nTime: 17:00 CET \nSpeakers:\nProf Edgar Cahoon (University of Nebraska–Lincoln)\nDr Hyojin Kim (University of Nebraska–Lincoln) \nThe Cahoon lab [https://cahoonlab.unl.edu] conducts basic and applied research on plant lipid metabolism. The goals of their research are to enhance the nutritional and industrial value of crop plants and to probe the synthesis and function of bioactive lipids for nutritional biofortification and improved agronomic performance of crops. \nDon’t miss this opportunity to hear and engage in thoughtful discussion. \nRegister now to secure your spot.
URL:https://globalplantcouncil.org/event/webinar-translating-research-from-lab-to-field-to-application/
LOCATION:Online
CATEGORIES:Plant Biotechnology,Plant Science
ATTACH;FMTTYPE=image/webp:https://globalplantcouncil.org/wp-content/uploads/2025/11/lab-to-field.webp
END:VEVENT
END:VCALENDAR